BEGIN:VCALENDAR
VERSION:2.0
PRODID:-//Hochschul-Segelclub Hannover e. V. - ECPv5.16.4.1//NONSGML v1.0//EN
CALSCALE:GREGORIAN
METHOD:PUBLISH
X-WR-CALNAME:Hochschul-Segelclub Hannover e. V.
X-ORIGINAL-URL:https://hsh-segeln.de
X-WR-CALDESC:Veranstaltungen für Hochschul-Segelclub Hannover e. V.
BEGIN:VTIMEZONE
TZID:Europe/Paris
BEGIN:DAYLIGHT
TZOFFSETFROM:+0100
TZOFFSETTO:+0200
TZNAME:CEST
DTSTART:20240331T010000
END:DAYLIGHT
BEGIN:STANDARD
TZOFFSETFROM:+0200
TZOFFSETTO:+0100
TZNAME:CET
DTSTART:20241027T010000
END:STANDARD
END:VTIMEZONE
BEGIN:VEVENT
DTSTART;VALUE=DATE:20240817
DTEND;VALUE=DATE:20240818
DTSTAMP:20260422T151447
CREATED:20240807T181044Z
LAST-MODIFIED:20240812T085245Z
UID:3696-1723852800-1723939199@hsh-segeln.de
SUMMARY:HSH-Vereins-Regatta am Sa. 17.08.2024 ab 11.00 Uhr
DESCRIPTION:Ausschreibung zur HSH-Vereins-Regatta am Sa. 17.08.2024\nFür  Jollen und Dickschiffe\nHSH-\, SCLD- und SVSN-Mitglieder und Steganlieger sind gerne\nwillkommen. Weitere Gäste sind ebenfalls willkommen. \nDie Anmeldung kann per Mail an vorstand@hsh-segeln.de mit Angabe\nvon Bootsklasse und Yardstickzahl erfolgen. \nMeldegebühr              (10 € für jedes Boot) \nBeginn                           11.00 Uhr \nWettfahrtleitung: Helmut Lutter. \nHier die vollständige Ausschreibung der HSH-Vereins-Regatta: \nhttps://hsh-segeln.de/wp-content/uploads/2024/08/AusschreibungHSHVereinsregatta2024.pdf \nBitte für die Teilnahme eintragen:   https://terminplaner.dfn.de/aLBzWwRIubpMwh9X \n  \n 
URL:https://hsh-segeln.de/kalender/zugvogeleinweisung-mit-helmut-2/
LOCATION:HSH Steinhude Hafenstr.
END:VEVENT
END:VCALENDAR