BEGIN:VCALENDAR
VERSION:2.0
PRODID:-//Hochschul-Segelclub Hannover e. V. - ECPv5.16.4.1//NONSGML v1.0//EN
CALSCALE:GREGORIAN
METHOD:PUBLISH
X-WR-CALNAME:Hochschul-Segelclub Hannover e. V.
X-ORIGINAL-URL:https://hsh-segeln.de
X-WR-CALDESC:Veranstaltungen für Hochschul-Segelclub Hannover e. V.
BEGIN:VTIMEZONE
TZID:Europe/Paris
BEGIN:DAYLIGHT
TZOFFSETFROM:+0100
TZOFFSETTO:+0200
TZNAME:CEST
DTSTART:20250330T010000
END:DAYLIGHT
BEGIN:STANDARD
TZOFFSETFROM:+0200
TZOFFSETTO:+0100
TZNAME:CET
DTSTART:20251026T010000
END:STANDARD
END:VTIMEZONE
BEGIN:VEVENT
DTSTART;VALUE=DATE:20250322
DTEND;VALUE=DATE:20250323
DTSTAMP:20260422T182709
CREATED:20250106T190001Z
LAST-MODIFIED:20250218T175327Z
UID:4008-1742601600-1742687999@hsh-segeln.de
SUMMARY:Trailern HSH am 22.03.2025
DESCRIPTION:Wir machen uns bereit für die neue Segelsaison! Details und Zeiten teilen wir Euch rechtzeitig  mit. \nDas Trailern wird am Samstag\, den 22. März 2025 stattfinden. \nWir freuen uns auf eine rege Teilnahme und eine Saison voller Segelfreude\, Teamgeist und neuer Abenteuer. \nWeitere Informationen im Mitgleiderbereich. \nEuer Schifferrat
URL:https://hsh-segeln.de/kalender/trailern-fruehjahr-2023/
LOCATION:HSH Steinhude Hafenstr.
END:VEVENT
END:VCALENDAR