BEGIN:VCALENDAR
VERSION:2.0
PRODID:-//Hochschul-Segelclub Hannover e. V. - ECPv5.16.4.1//NONSGML v1.0//EN
CALSCALE:GREGORIAN
METHOD:PUBLISH
X-WR-CALNAME:Hochschul-Segelclub Hannover e. V.
X-ORIGINAL-URL:https://hsh-segeln.de
X-WR-CALDESC:Veranstaltungen für Hochschul-Segelclub Hannover e. V.
BEGIN:VTIMEZONE
TZID:Europe/Paris
BEGIN:DAYLIGHT
TZOFFSETFROM:+0100
TZOFFSETTO:+0200
TZNAME:CEST
DTSTART:20230326T010000
END:DAYLIGHT
BEGIN:STANDARD
TZOFFSETFROM:+0200
TZOFFSETTO:+0100
TZNAME:CET
DTSTART:20231029T010000
END:STANDARD
END:VTIMEZONE
BEGIN:VEVENT
DTSTART;TZID=Europe/Paris:20230618T110000
DTEND;TZID=Europe/Paris:20230618T150000
DTSTAMP:20260422T121341
CREATED:20230516T081058Z
LAST-MODIFIED:20230516T081803Z
UID:3593-1687086000-1687100400@hsh-segeln.de
SUMMARY:Lasertraining mit Irmi
DESCRIPTION:Lasertraining\, maximal 6 Personen \nBitte meldet euch an
URL:https://hsh-segeln.de/kalender/lasertraining-mit-irmi/
LOCATION:HSH Steinhude Hafenstr.
END:VEVENT
END:VCALENDAR